Workbook

Sheet Dashboard
A1: Daily fluid tracker
A2: Enter the daily limit your kidney care team gave you. This is a personal log, not medical advice - contact your dialysis team about weight gain, swelling, or shortness of breath.
A3: Daily fluid limit (mL) | C3: <- type your limit here (yellow cell). Left blank until you enter it.
A4: Tracking start date | B4: 46294 | C4: <- first day shown in the table below; change it to move the 30-day window.
A6: Today
A7: Total today (mL) | B7: =SUMIFS(Log!$D:$D,Log!$A:$A,TODAY()) -> 0
A8: Total today (oz) | B8: =B7/29.5735 -> 0
A9: Remaining (mL) | B9: =IF($B$3="","",$B$3-B7)
A10: Percent of limit | B10: =IF($B$3="","",B7/$B$3)
A11: Status | B11: =IF($B$3="","Enter your limit in B3",IF(B7>$B$3,"Over limit",IF(B7>=0.8*$B$3,"Nearly at limit","Within limit"))) -> Enter your limit in B3
A12: Average on days with entries (mL) | B12: =IFERROR(AVERAGEIF($C$16:$C$45,">0"),0) -> 0
A15: Date | B15: Day | C15: Total (mL) | D15: Total (oz) | E15: Limit (mL) | F15: Remaining (mL) | G15: % of limit | H15: Status
A16: =$B$4 -> 46294 | B16: =TEXT(A16,"ddd") -> Tue | C16: =SUMIFS(Log!$D:$D,Log!$A:$A,A16) -> 0 | D16: =C16/29.5735 -> 0 | E16: =IF($B$3="","",$B$3) | F16: =IF($B$3="","",$B$3-C16) | G16: =IF($B$3="","",C16/$B$3) | H16: =IF($B$3="","",IF(C16=0,"No entries",IF(C16>$B$3,"Over limit",IF(C16>=0.8*$B$3,"Nearly at limit","Within limit"))))
A17: =A16+1 -> 46295 | B17: =TEXT(A17,"ddd") -> Wed | C17: =SUMIFS(Log!$D:$D,Log!$A:$A,A17) -> 0 | D17: =C17/29.5735 -> 0 | E17: =IF($B$3="","",$B$3) | F17: =IF($B$3="","",$B$3-C17) | G17: =IF($B$3="","",C17/$B$3) | H17: =IF($B$3="","",IF(C17=0,"No entries",IF(C17>$B$3,"Over limit",IF(C17>=0.8*$B$3,"Nearly at limit","Within limit"))))
A18: =A17+1 -> 46296 | B18: =TEXT(A18,"ddd") -> Thu | C18: =SUMIFS(Log!$D:$D,Log!$A:$A,A18) -> 0 | D18: =C18/29.5735 -> 0 | E18: =IF($B$3="","",$B$3) | F18: =IF($B$3="","",$B$3-C18) | G18: =IF($B$3="","",C18/$B$3) | H18: =IF($B$3="","",IF(C18=0,"No entries",IF(C18>$B$3,"Over limit",IF(C18>=0.8*$B$3,"Nearly at limit","Within limit"))))
A19: =A18+1 -> 46297 | B19: =TEXT(A19,"ddd") -> Fri | C19: =SUMIFS(Log!$D:$D,Log!$A:$A,A19) -> 0 | D19: =C19/29.5735 -> 0 | E19: =IF($B$3="","",$B$3) | F19: =IF($B$3="","",$B$3-C19) | G19: =IF($B$3="","",C19/$B$3) | H19: =IF($B$3="","",IF(C19=0,"No entries",IF(C19>$B$3,"Over limit",IF(C19>=0.8*$B$3,"Nearly at limit","Within limit"))))
A20: =A19+1 -> 46298 | B20: =TEXT(A20,"ddd") -> Sat | C20: =SUMIFS(Log!$D:$D,Log!$A:$A,A20) -> 0 | D20: =C20/29.5735 -> 0 | E20: =IF($B$3="","",$B$3) | F20: =IF($B$3="","",$B$3-C20) | G20: =IF($B$3="","",C20/$B$3) | H20: =IF($B$3="","",IF(C20=0,"No entries",IF(C20>$B$3,"Over limit",IF(C20>=0.8*$B$3,"Nearly at limit","Within limit"))))
A21: =A20+1 -> 46299 | B21: =TEXT(A21,"ddd") -> Sun | C21: =SUMIFS(Log!$D:$D,Log!$A:$A,A21) -> 0 | D21: =C21/29.5735 -> 0 | E21: =IF($B$3="","",$B$3) | F21: =IF($B$3="","",$B$3-C21) | G21: =IF($B$3="","",C21/$B$3) | H21: =IF($B$3="","",IF(C21=0,"No entries",IF(C21>$B$3,"Over limit",IF(C21>=0.8*$B$3,"Nearly at limit","Within limit"))))
A22: =A21+1 -> 46300 | B22: =TEXT(A22,"ddd") -> Mon | C22: =SUMIFS(Log!$D:$D,Log!$A:$A,A22) -> 0 | D22: =C22/29.5735 -> 0 | E22: =IF($B$3="","",$B$3) | F22: =IF($B$3="","",$B$3-C22) | G22: =IF($B$3="","",C22/$B$3) | H22: =IF($B$3="","",IF(C22=0,"No entries",IF(C22>$B$3,"Over limit",IF(C22>=0.8*$B$3,"Nearly at limit","Within limit"))))
A23: =A22+1 -> 46301 | B23: =TEXT(A23,"ddd") -> Tue | C23: =SUMIFS(Log!$D:$D,Log!$A:$A,A23) -> 0 | D23: =C23/29.5735 -> 0 | E23: =IF($B$3="","",$B$3) | F23: =IF($B$3="","",$B$3-C23) | G23: =IF($B$3="","",C23/$B$3) | H23: =IF($B$3="","",IF(C23=0,"No entries",IF(C23>$B$3,"Over limit",IF(C23>=0.8*$B$3,"Nearly at limit","Within limit"))))
A24: =A23+1 -> 46302 | B24: =TEXT(A24,"ddd") -> Wed | C24: =SUMIFS(Log!$D:$D,Log!$A:$A,A24) -> 0 | D24: =C24/29.5735 -> 0 | E24: =IF($B$3="","",$B$3) | F24: =IF($B$3="","",$B$3-C24) | G24: =IF($B$3="","",C24/$B$3) | H24: =IF($B$3="","",IF(C24=0,"No entries",IF(C24>$B$3,"Over limit",IF(C24>=0.8*$B$3,"Nearly at limit","Within limit"))))
A25: =A24+1 -> 46303 | B25: =TEXT(A25,"ddd") -> Thu | C25: =SUMIFS(Log!$D:$D,Log!$A:$A,A25) -> 0 | D25: =C25/29.5735 -> 0 | E25: =IF($B$3="","",$B$3) | F25: =IF($B$3="","",$B$3-C25) | G25: =IF($B$3="","",C25/$B$3) | H25: =IF($B$3="","",IF(C25=0,"No entries",IF(C25>$B$3,"Over limit",IF(C25>=0.8*$B$3,"Nearly at limit","Within limit"))))
A26: =A25+1 -> 46304 | B26: =TEXT(A26,"ddd") -> Fri | C26: =SUMIFS(Log!$D:$D,Log!$A:$A,A26) -> 0 | D26: =C26/29.5735 -> 0 | E26: =IF($B$3="","",$B$3) | F26: =IF($B$3="","",$B$3-C26) | G26: =IF($B$3="","",C26/$B$3) | H26: =IF($B$3="","",IF(C26=0,"No entries",IF(C26>$B$3,"Over limit",IF(C26>=0.8*$B$3,"Nearly at limit","Within limit"))))
A27: =A26+1 -> 46305 | B27: =TEXT(A27,"ddd") -> Sat | C27: =SUMIFS(Log!$D:$D,Log!$A:$A,A27) -> 0 | D27: =C27/29.5735 -> 0 | E27: =IF($B$3="","",$B$3) | F27: =IF($B$3="","",$B$3-C27) | G27: =IF($B$3="","",C27/$B$3) | H27: =IF($B$3="","",IF(C27=0,"No entries",IF(C27>$B$3,"Over limit",IF(C27>=0.8*$B$3,"Nearly at limit","Within limit"))))
A28: =A27+1 -> 46306 | B28: =TEXT(A28,"ddd") -> Sun | C28: =SUMIFS(Log!$D:$D,Log!$A:$A,A28) -> 0 | D28: =C28/29.5735 -> 0 | E28: =IF($B$3="","",$B$3) | F28: =IF($B$3="","",$B$3-C28) | G28: =IF($B$3="","",C28/$B$3) | H28: =IF($B$3="","",IF(C28=0,"No entries",IF(C28>$B$3,"Over limit",IF(C28>=0.8*$B$3,"Nearly at limit","Within limit"))))
... A45: =A44+1 -> 46323 | B45: =TEXT(A45,"ddd") -> Wed | C45: =SUMIFS(Log!$D:$D,Log!$A:$A,A45) -> 0 | D45: =C45/29.5735 -> 0 | E45: =IF($B$3="","",$B$3) | F45: =IF($B$3="","",$B$3-C45) | G45: =IF($B$3="","",C45/$B$3) | H45: =IF($B$3="","",IF(C45=0,"No entries",IF(C45>$B$3,"Over limit",IF(C45>=0.8*$B$3,"Nearly at limit","Within limit"))))
A47: Chart: bars are daily totals; the dashed line is your limit.

Sheet Log
A1: Fluid log
A2: Add one row per drink or liquid food. Fill in Date, Time, What, and Amount (mL) - blue cells are yours to edit; Amount (oz) calculates itself. Shortcuts: Ctrl+; enters today's date, Ctrl+Shift+; enters the time.
A4: Date | B4: Time | C4: What | D4: Amount (mL) | E4: Amount (oz) | G4: Note: 1 oz = 29.5735 mL (US fluid ounce).
A5: e.g. 9/29/2026 | B5: 8:15 AM | C5: Tea (example - delete this row) | D5: 240 | E5: =IF(D5="","",D5/29.5735) -> 8.1153736
E6: =IF(D6="","",D6/29.5735)
E7: =IF(D7="","",D7/29.5735)
E8: =IF(D8="","",D8/29.5735)
E9: =IF(D9="","",D9/29.5735)
E10: =IF(D10="","",D10/29.5735)
E11: =IF(D11="","",D11/29.5735)
E12: =IF(D12="","",D12/29.5735)
E13: =IF(D13="","",D13/29.5735)
E14: =IF(D14="","",D14/29.5735)
E15: =IF(D15="","",D15/29.5735)
E16: =IF(D16="","",D16/29.5735)
E17: =IF(D17="","",D17/29.5735)
... E505: =IF(D505="","",D505/29.5735)
